Workbook

Sheet 备案申请表
A1: 深圳知识产权保护中心 专利快速审查确权业务主体备案申请表
A2: 申请主体基本信息
A3: 申请主体
A4: 统一社会信用代码/ 注册证明编号
A5: 涉及技术领域 （可多选） 请复制☑进行勾选 | D5: □新能源 □互联网 □高端装备制造 □珠宝加工
A6: 注册/登记地址
A7: 联系人姓名 (主体内部员工) | G7: 联系人手机号码
A8: 联系人电子邮箱
A9: 所属行业 | I9: *请从下拉列表中选择*
A10: 销售收入 | D10: 合计 | G10: 2023年 | I10: 2024年 | K10: 2025年
A11: （万元）
A12: 研发投入 | C12: 合计 | D12: 合计 | G12: 2023年 | I12: 2024年 | K12: 2025年
A13: （万元）
A14: 深圳主体填写区（注：若为香港主体下列各项请勾选、填写“无”）
A15: 法定代表人 | G15: 主体规模（人数）
A16: 办公电话
A17: 主体/单位类型
A18: 是否还属于以下主体 类型（可多选） 请复制☑进行勾选 *香港主体直接勾选“其他主体类型”并填无* | D18: □大型企业 □国家级专精特新企业 □独角兽企业 □中小微企业 □省级专精特新企业 □高新技术企业 | K18: *港澳台投资企业勿勾选外资* *外资合资企业需在横线上填写外资占比最多国别*
D19: □外资合资企业 国别 □外资独资企业 国别 | H19: __________ __________
D20: □政府部门及事业单位 | G20: □其他主体类型 | I20: __________
A21: 是否为国家实验室等 国家战略科技力量 | E21: *如是战略科技力量请在预审系统的其他附件或企业相关证明材料上传相关证明文件* | J21: 是否为上市企业
A23: 香港主体填写区（注：若为深圳主体下列各项请勾选、填写“无”）
A24: 内地经常居所或营业所地址（如无请填“无”）
A25: 主体类型 请复制☑进行勾选 | D25: □无 □香港企业 □主体类型为其他 | K25: __________
A26: 是否委托代理机构 | F26: 代理机构名称
A27: 代理机构联系人 | F27: 代理机构联系人电话
A29: 申请主体知识产权信息
A30: 专利 | C30: 发明： | E30: 专利 | G30: 发明： | I30: 有效 | K30: 发明：
A31: 申请总量 | C31: 新型： | E31: 授权总量 | G31: 新型： | I31: 专利总量 | K31: 新型：
A32: （件） | C32: 外观： | E32: （件） | G32: 外观： | I32: （件） | K32: 外观：
A33: 本年度计划- | C33: 发明： | E33: 本年度计划-专利复审优审量（件）：
A34: 专利预审量 | C34: 新型： | E34: 本年度计划-专利无效优审量（件）：
A35: （件） | C35: 外观： | E35: 本年度计划-外观专利评价报告预审量（件）：
A36: 内部知识产权 | G36: 知识产权管理
A37: 管理部门名称 | G37: 专职人员数量
A38: 负责人姓名 | G38: 负责人联系电话
A39: 负责人电子邮箱
A40: 申请主体承诺
A41: (1)保证不存在《规范申请专利行为的规定》(2023)(局令第77号)中所规定的非正常申请专利的行为。
A42: (2)保证遵守相关知识产权法律法规，维护自己合法权益同时尊重他人的知识产权，不侵犯他人相关知识产权。
...

Sheet 自动生成请勿操作
A1: 深圳知识产权保护中心 专利快速审查确权业务主体备案申请表（2026年度）
A2: 申请单位 | B2: 统一社会信用代码/注册证明编号 | C2: 涉及技术领域 | D2: 注册/登记地址 | E2: 联系人姓名 | F2: 联系人手机号 | G2: 联系人电子邮箱 | H2: 所属行业 | I2: 销售收入（万元）-合计 | J2: 销售收入（万元）-2023 | K2: 销售收入（万元）-2024 | L2: 销售收入（万元）-2025 | M2: 研发投入（万元）-合计 | N2: 研发投入（万元）-2023 | O2: 研发投入（万元）-2024 | P2: 研发投入（万元）-2025 | Q2: 法定代表人 | R2: 主体规模（人数） | S2: 办公电话 | T2: 深圳主体单位类型 | U2: 深圳主体主体类型 | V2: 国别 | W2: 国家战略科技力量 | X2: 是否为上市企业 | Y2: 内地经常居所或营业所地址 | Z2: 香港企业单位类型 | AA2: 是否委托代理机构 | AB2: 代理机构名称 | AC2: 代理机构联系人 | AD2: 代理机构联系人电话 | AE2: 专利申请总量-发明 | AF2: 专利申请总量-实用新型 | AG2: 专利申请总量-外观 | AH2: 专利授权总量-发明 | AI2: 专利授权总量-实用新型 | AJ2: 专利授权总量-外观 | AK2: 有效专利总量-发明 | AL2: 有效专利总量-实用新型 | AM2: 有效专利总量-外观 | AN2: 本年度划 专利预审量—发明 | AO2: 本年度划 专利预审量—新型 | AP2: 本年度划 专利预审量—外观 | AQ2: 本年度计划-复审优审 | AR2: 本年度计划-无效优审 | AS2: 本年度计划-外观专利权评价报告预审 | AT2: 内部知识产权管理部门名称 | AU2: 知识产权管理专职人员数量 | AV2: 负责人姓名 | AW2: 负责人联系电话 | AX2: 负责人电子邮箱
A3: =备案申请表!D3 -> 0 | B3: =备案申请表!D4 -> 0 | C3: =备案申请表!D5 -> □新能源 □互联网 □高端装备制造 □珠宝加工 | D3: =备案申请表!D6 -> 0 | E3: =备案申请表!D7 -> 0 | F3: =备案申请表!J7 -> 0 | G3: =备案申请表!G8 -> 0 | H3: =备案申请表!D9 -> 0 | I3: =备案申请表!D11 -> 0 | J3: =备案申请表!G11 -> 0 | K3: =备案申请表!I11 -> 0 | L3: =备案申请表!K11 -> 0 | M3: =备案申请表!D13 -> 0 | N3: =备案申请表!G13 -> 0 | O3: =备案申请表!I13 -> 0 | P3: =备案申请表!K13 -> 0 | Q3: =备案申请表!D15 -> 0 | R3: =备案申请表!J15 -> 0 | S3: =备案申请表!D16 -> 0 | T3: =备案申请表!D17 -> 0 | U3: =备案申请表!D18 -> □大型企业 □国家级专精特新企业 □独角兽企业 □中小微企业 □省级专精特新企业 □高新技术企业 | V3: =备案申请表!H19 -> __________ __________ | W3: =备案申请表!D21 -> 0 | X3: =备案申请表!K21 -> 0 | Y3: =备案申请表!D24 -> 0 | Z3: =备案申请表!D25 -> □无 □香港企业 □主体类型为其他 | AA3: =备案申请表!D26 -> 0 | AB3: =备案申请表!I26 -> 0 | AC3: =备案申请表!D27 -> 0 | AD3: =备案申请表!I27 -> 0 | AE3: =备案申请表!D30 -> 0 | AF3: =备案申请表!D31 -> 0 | AG3: =备案申请表!D32 -> 0 | AH3: =备案申请表!H30 -> 0 | AI3: =备案申请表!H31 -> 0 | AJ3: =备案申请表!H32 -> 0 | AK3: =备案申请表!L30 -> 0 | AL3: =备案申请表!L31 -> 0 | AM3: =备案申请表!L32 -> 0 | AN3: =备案申请表!D33 -> 0 | AO3: =备案申请表!D34 -> 0 | AP3: =备案申请表!D35 -> 0 | AQ3: =备案申请表!K33 -> 0 | AR3: =备案申请表!K34 -> 0 | AS3: =备案申请表!K35 -> 0 | AT3: =备案申请表!D36 -> 0 | AU3: =备案申请表!J36 -> 0 | AV3: =备案申请表!D38 -> 0 | AW3: =备案申请表!J38 -> 0 | AX3: =备案申请表!D39 -> 0

Sheet 其他内容
A1: 所属行业 | C1: 单位类型 | E1: 香港主体单位类型 | G1: 上市企业 | I1: 是否为国家实验室或国家实验室依托单位
A2: 农、林、牧、渔业 | C2: 国有企业 | E2: 香港公司 | G2: 主板 | I2: 是
A3: 采矿业 | C3: 国有控股企业 | E3: 其他 | G3: 北证 | I3: 否
A4: 制造业 | C4: 私营企业（民营企业） | E4: 无 | G4: 中小板
A5: 电力、热力、燃气及水的生产和供应业 | C5: 外资独资企业 | G5: 科创板
A6: 环境和公共设施管理业 | C6: 外资合资企业 | G6: 创业板
A7: 建筑业 | C7: 港资企业 | G7: 否
A8: 交通运输、仓储业和邮政业 | C8: 澳资企业
A9: 信息传输、计算机服务和软件业 | C9: 台资企业
A10: 批发和零售业 | C10: 医院
A11: 住宿、餐饮业；金融、保险业 | C11: 高校
A12: 房地产业 | C12: 科研机构
A13: 租赁和商务服务业 | C13: 政府部门及事业单位
A14: 科学研究、技术服务和地质勘查业 | C14: 民办非盈利组织
A15: 水利、环境和公共设施管理业 | C15: 其他
A16: 居民服务和其他服务业 | C16: 无
A17: 教育
A18: 卫生、社会保障和社会服务业
A19: 文化、体育、娱乐业
A20: 综合(含投资类、主业不明显)
A21: 其他
